BEGIN:VCALENDAR
VERSION:2.0
PRODID:-//Mont Cascades - ECPv6.15.20//NONSGML v1.0//EN
CALSCALE:GREGORIAN
METHOD:PUBLISH
X-WR-CALNAME:Mont Cascades
X-ORIGINAL-URL:https://montcascades.ca
X-WR-CALDESC:Events for Mont Cascades
REFRESH-INTERVAL;VALUE=DURATION:PT1H
X-Robots-Tag:noindex
X-PUBLISHED-TTL:PT1H
BEGIN:VTIMEZONE
TZID:America/Toronto
BEGIN:DAYLIGHT
TZOFFSETFROM:-0500
TZOFFSETTO:-0400
TZNAME:EDT
DTSTART:20250309T070000
END:DAYLIGHT
BEGIN:STANDARD
TZOFFSETFROM:-0400
TZOFFSETTO:-0500
TZNAME:EST
DTSTART:20251102T060000
END:STANDARD
BEGIN:DAYLIGHT
TZOFFSETFROM:-0500
TZOFFSETTO:-0400
TZNAME:EDT
DTSTART:20260308T070000
END:DAYLIGHT
BEGIN:STANDARD
TZOFFSETFROM:-0400
TZOFFSETTO:-0500
TZNAME:EST
DTSTART:20261101T060000
END:STANDARD
BEGIN:DAYLIGHT
TZOFFSETFROM:-0500
TZOFFSETTO:-0400
TZNAME:EDT
DTSTART:20270314T070000
END:DAYLIGHT
BEGIN:STANDARD
TZOFFSETFROM:-0400
TZOFFSETTO:-0500
TZNAME:EST
DTSTART:20271107T060000
END:STANDARD
END:VTIMEZONE
BEGIN:VEVENT
DTSTART;TZID=America/Toronto:20260207T180000
DTEND;TZID=America/Toronto:20260207T193000
DTSTAMP:20260423T052829
CREATED:20260202T151404Z
LAST-MODIFIED:20260202T152524Z
UID:5296-1770487200-1770492600@montcascades.ca
SUMMARY:Soirée Quiz Olympiques ! / Olympic Quiz Night
DESCRIPTION:La Soirée Quiz Olympiques débarquent au Mont Cascades pour une soirée ludique et rassembleuse où le sport\, le plaisir et la compétition amicale sont à l’honneur ! À l’intérieur du Chalet du Nord\, prenez part à un quiz interactif inspiré des Jeux Olympiques\, animé dans une atmosphère festive avec musique\, animation et défis pour tous les niveaux. Joignez-vous à nous le samedi 7 février de 18 h à 19 h 30 pour tester vos connaissances dans une ambiance animée et conviviale\, au cœur de la montagne. Que vous soyez passionné de sport ou simplement curieux\, cette activité est parfaite pour partager un bon moment entre amis ou en famille et profitez des options de restauration sur place pour compléter l’expérience. Des prix seront remis à chacune des trois rondes\, en plus d’un méga prix final pour couronner la meilleure équipe de la soirée !Préparez-vous pour une soirée dynamique et amusante\, une façon originale de célébrer l’hiver et l’esprit olympique au Mont Cascades ! PRIX D’ENTRÉE: 10 $ + taxes par équipe (maximum de six personnes par équipe).Camion-restaurant\, Grab N Go et options spéciales de restauration disponibles sur place ! \n— Combo grande pizza (8 parts) et quatre bières Heineken (ou toute autre boisson de valeur égale) à 80 $ taxes incluses.— Un hot-dog\, boisson gazeuse et croustilles disponible à 14 $ taxes incluses. \nCliquez sur « Réserver maintenant » pour obtenir vos billets ! \nAu plaisir de vous y voir en grand nombre !L’équipe du Mont Cascades x l’As des Jeux _____________ The Olympic Quiz Night is coming to Mont Cascades for a fun and unifying evening where sport\, fun and friendly competition are in the spotlight ! Inside the Chalet du Nord\, take part in an interactive quiz inspired by the Olympic Games\, held in a festive atmosphere with music\, entertainment and challenges for all levels. Join us on Saturday\, February 7th\, from 6 pm to 7:30 pm to test your knowledge in a lively and friendly atmosphere\, in the heart of the mountains. Whether you’re a sports enthusiast or simply curious\, this activity is perfect for sharing a great time with friends or family. Take advantage of the on-site dining options to complete the experience. Prizes will be awarded in each of the three rounds\, plus a grand final prize to crown the best team of the evening!Get ready for a dynamic and fun evening\, a unique way to celebrate winter and the Olympic spirit at Mont Cascades! ENTRY FEE: $10 + tax per team (maximum of six people per team).Food truck\, Grab N Go and Special food and beverage options available onsite!– Large pizza combo (8 slices) and four Heineken beers (or any other beverage of equal value) for $80\, tax included.– One hot dog\, soft drink\, and chips available for $14\, tax included. Click Book Now to get your tickets! We look forward to seeing you there!The Mont Cascades x As des Jeux Team
URL:https://montcascades.ca/event/soiree-quiz-olympiques-olympic-quiz-night/
LOCATION:Mont Cascades\, 448 Chemin Mont-des-Cascades\, Cantley\, Québec J8V 3B2\, Canada
ATTACH;FMTTYPE=image/jpeg:https://montcascades.ca/wp-content/uploads/2026/02/Olympic-Quiz-night-event-cover.jpg
END:VEVENT
END:VCALENDAR