BEGIN:VCALENDAR
VERSION:2.0
PRODID:-//Mont Cascades - ECPv6.15.20//NONSGML v1.0//EN
CALSCALE:GREGORIAN
METHOD:PUBLISH
X-WR-CALNAME:Mont Cascades
X-ORIGINAL-URL:https://montcascades.ca
X-WR-CALDESC:Events for Mont Cascades
REFRESH-INTERVAL;VALUE=DURATION:PT1H
X-Robots-Tag:noindex
X-PUBLISHED-TTL:PT1H
BEGIN:VTIMEZONE
TZID:America/New_York
BEGIN:DAYLIGHT
TZOFFSETFROM:-0500
TZOFFSETTO:-0400
TZNAME:EDT
DTSTART:20250309T070000
END:DAYLIGHT
BEGIN:STANDARD
TZOFFSETFROM:-0400
TZOFFSETTO:-0500
TZNAME:EST
DTSTART:20251102T060000
END:STANDARD
BEGIN:DAYLIGHT
TZOFFSETFROM:-0500
TZOFFSETTO:-0400
TZNAME:EDT
DTSTART:20260308T070000
END:DAYLIGHT
BEGIN:STANDARD
TZOFFSETFROM:-0400
TZOFFSETTO:-0500
TZNAME:EST
DTSTART:20261101T060000
END:STANDARD
BEGIN:DAYLIGHT
TZOFFSETFROM:-0500
TZOFFSETTO:-0400
TZNAME:EDT
DTSTART:20270314T070000
END:DAYLIGHT
BEGIN:STANDARD
TZOFFSETFROM:-0400
TZOFFSETTO:-0500
TZNAME:EST
DTSTART:20271107T060000
END:STANDARD
END:VTIMEZONE
BEGIN:VEVENT
DTSTART;TZID=America/New_York:20260109T180000
DTEND;TZID=America/New_York:20260109T235900
DTSTAMP:20260423T055746
CREATED:20251208T180204Z
LAST-MODIFIED:20260103T010951Z
UID:2321-1767981600-1768003140@montcascades.ca
SUMMARY:RAIL JAM
DESCRIPTION:Le fameux Rail Jam du Mont Cascades est de retour pour lancer la saison de freestyle ! Avec plusieurs nouveautés à la station cet hiver\, c’est un rendez-vous aux pieds de la pente Première vendredi le 9 janvier pour une soirée festive de la communauté Freestyle. Pour célébrer le début de la saison de freestyle\, on vous propose un rassemblement amical de ski et de planche à neige ! Le RAIL JAM se déroule dans un parc à neige conçu pour tous niveaux aux pieds de la pente Première.Les inscriptions se feront à l’accueil du service à la clientèle dans le Chalet principal dès 17h. PRIX D’ENTRÉE: $28.74 (taxes inclus) AVANT-SKI (17h15-18h):-Chocolats Chauds offert aux pieds des pentes.-Séance d’initiation au parc offert par notre responsable du parc à neige. DÉBUT DE LA SÉANCE (18h à minuit):-Séance amicale à votre rhythm.-Kiosque matériel de plein air Kunstadt Sports-Kiosque de dégustation de la Microbrasserie Chelsea & Co PAUSE COLLATION (20h):Tirage de prix de participation offerts par nos partenaires\, on se retrouve sur le terrasse du chalet en face du foodtruck pour un délicieux snack. Les clients ne sont pas autorisés à apporter leurs propres boissons alcoolisées sur le site. Ceci n’est pas une compétition\, apportez vos ami(e)s !!L’équipe du Mont Cascades x Microbrasserie Chelsea & Co et Kunstadt Sports __________________ The famous Rail Jam at Mont Cascades is back to kick off the freestyle season!With several new features at the resort this winter\, join us at the Main Chalet on Friday\, January 9th\, for a festive evening for the freestyle community. To celebrate the start of the freestyle season\, we invite you to a friendly gathering of skiers and snowboarders! The Rail Jam takes place in the terrain park designed for all levels at the base of the Première slope. Registration will be at the Guest Services desk in the Main Chalet starting at 5:00 p.m. ADMISSION PRICE: $28.74 (taxes included) PRE-SKI (5:15-6:00 PM):– Hot chocolate offered at the base of the slopes– Introductory session about the park offered by our snow park ranger. START OF THE SESSION (6:00PM to Midnight):– Friendly session at your own pace– Kunstadt Sports Outdoor Equipment Booth– Chelsea & Co Microbrewery Beer Booth SNACK BREAK (8:00 PM):Draw for participation prizes offered by our partners. Join us on the chalet terrace next to the food truck for a delicious snack. **Guests are not permitted to bring their own alcoholic beverages onto the premises. This is not a competition\, bring your friends !!The Mont Cascades x Microbrasserie Chelsea & Co and Kunstadt Sports Team
URL:https://montcascades.ca/event/rail-jam/
LOCATION:Mont Cascades\, 448 Chemin Mont-des-Cascades\, Cantley\, Québec J8V 3B2\, Canada
CATEGORIES:Test-1
ATTACH;FMTTYPE=image/png:https://montcascades.ca/wp-content/uploads/2025/12/RailJam_Jan26.png
END:VEVENT
END:VCALENDAR